BEGIN:VCALENDAR
VERSION:2.0
METHOD:PUBLISH
BEGIN:VEVENT
DTSTART:20151128T143000Z
DTEND:20151128T210000Z
LOCATION:Sag Harbor, NY 11963
TRANSP: OPAQUE
SEQUENCE:0
UID:
DTSTAMP:20260423T224645Z
SUMMARY:SAG HARBOR GEM HISTORIC BENJAMIN GLOVER HOUSE 
DESCRIPTION:SAG HARBOR GEM HISTORIC BENJAMIN GLOVER HOUSE  re.luxeHamptons 
UID:1777006005
STREET-ADDRESS:See website
POSTAL-CODE:11963
LOCALITY:Sag Harbor
REGION:ABBREV=NY
COUNTRY:ABBREV=US;ABBREV=USA:United States
URL;TYPE=Event Listing:https://estatesales.org/estate-sales/ny/sag-harbor/11963/sag-harbor-gem-historic-benjamin-727519
PRIORITY:1
CLASS:PUBLIC
SEQUENCE:0
STATUS:CONFIRMED
TRANSP:OPAQUE
END:VEVENT
END:VCALENDAR
