BEGIN:VCALENDAR
VERSION:2.0
METHOD:PUBLISH
BEGIN:VEVENT
DTSTART:20201127T130000Z
DTEND:20201127T190000Z
LOCATION:Spring Hill, FL 34608
TRANSP: OPAQUE
SEQUENCE:0
UID:
DTSTAMP:20260419T073133Z
SUMMARY:SENSATIONAL IN SPRING HILL
DESCRIPTION:SENSATIONAL IN SPRING HILL Treasure Hunter Estates 
UID:1776605493
STREET-ADDRESS:See website
POSTAL-CODE:34608
LOCALITY:Spring Hill
REGION:ABBREV=FL
COUNTRY:ABBREV=US;ABBREV=USA:United States
URL;TYPE=Event Listing:https://estatesales.org/estate-sales/fl/spring-hill/34608/sensational-in-spring-hill-1851103
PRIORITY:1
CLASS:PUBLIC
SEQUENCE:0
STATUS:CONFIRMED
TRANSP:OPAQUE
END:VEVENT
END:VCALENDAR
