BEGIN:VCALENDAR
VERSION:2.0
METHOD:PUBLISH
BEGIN:VEVENT
DTSTART:20231125T160000Z
DTEND:20231127T210000Z
LOCATION:Bethany, OK 73008
TRANSP: OPAQUE
SEQUENCE:0
UID:
DTSTAMP:20260425T194636Z
SUMMARY:Precious Possessions Estate Sale in Bethany! Nice Home with a Shop Building Full of Tools!
DESCRIPTION:Precious Possessions Estate Sale in Bethany! Nice Home with a Shop Building Full of Tools! Precious Possessions Estate Sales 
UID:1777167996
STREET-ADDRESS:See website
POSTAL-CODE:73008
LOCALITY:Bethany
REGION:ABBREV=OK
COUNTRY:ABBREV=US;ABBREV=USA:United States
URL;TYPE=Event Listing:https://estatesales.org/estate-sales/ok/bethany/73008/precious-possessions-estate-sale-in-2259175
PRIORITY:1
CLASS:PUBLIC
SEQUENCE:0
STATUS:CONFIRMED
TRANSP:OPAQUE
END:VEVENT
END:VCALENDAR
