BEGIN:VCALENDAR
VERSION:2.0
METHOD:PUBLISH
BEGIN:VEVENT
DTSTART:20221125T140000Z
DTEND:20221126T190000Z
LOCATION:Carver, MA 02330
TRANSP: OPAQUE
SEQUENCE:0
UID:
DTSTAMP:20260420T012618Z
SUMMARY:Carver Moving Sale
DESCRIPTION:Carver Moving Sale Hidden Treasures Estate Sales & Cleanouts 
UID:1776669978
STREET-ADDRESS:See website
POSTAL-CODE:02330
LOCALITY:Carver
REGION:ABBREV=MA
COUNTRY:ABBREV=US;ABBREV=USA:United States
URL;TYPE=Event Listing:https://estatesales.org/estate-sales/ma/carver/02330/carver-moving-sale-2123789
PRIORITY:1
CLASS:PUBLIC
SEQUENCE:0
STATUS:CONFIRMED
TRANSP:OPAQUE
END:VEVENT
END:VCALENDAR
