BEGIN:VCALENDAR
VERSION:2.0
METHOD:PUBLISH
BEGIN:VEVENT
DTSTART:20181125T111800Z
DTEND:20181206T000000Z
LOCATION:Buffalo, NY 14207
TRANSP: OPAQUE
SEQUENCE:0
UID:
DTSTAMP:20260420T195145Z
SUMMARY:Storage Warehouse Liquidation - (online - pickup is Wed. 12/5
DESCRIPTION:Storage Warehouse Liquidation - (online - pickup is Wed. 12/5 Stewart Estate Services LLC 
UID:1776736305
STREET-ADDRESS:See website
POSTAL-CODE:14207
LOCALITY:Buffalo
REGION:ABBREV=NY
COUNTRY:ABBREV=US;ABBREV=USA:United States
URL;TYPE=Event Listing:https://estatesales.org/estate-sales/ny/buffalo/14207/storage-warehouse-liquidation-online-pickup-1599313
PRIORITY:1
CLASS:PUBLIC
SEQUENCE:0
STATUS:CONFIRMED
TRANSP:OPAQUE
END:VEVENT
END:VCALENDAR
