BEGIN:VCALENDAR
VERSION:2.0
METHOD:PUBLISH
BEGIN:VEVENT
DTSTART:20231124T170000Z
DTEND:20231126T210000Z
LOCATION:Purcellville, VA 20132
TRANSP: OPAQUE
SEQUENCE:0
UID:
DTSTAMP:20260422T234940Z
SUMMARY:Black Friday and Small Business Saturday - Vintage Clothing and Antique Furniture Sale 
DESCRIPTION:Black Friday and Small Business Saturday - Vintage Clothing and Antique Furniture Sale 
UID:1776923380
STREET-ADDRESS:See website
POSTAL-CODE:20132
LOCALITY:Purcellville
REGION:ABBREV=VA
COUNTRY:ABBREV=US;ABBREV=USA:United States
URL;TYPE=Event Listing:https://estatesales.org/estate-sales/va/purcellville/20132/black-friday-and-small-business-2258583
PRIORITY:1
CLASS:PUBLIC
SEQUENCE:0
STATUS:CONFIRMED
TRANSP:OPAQUE
END:VEVENT
END:VCALENDAR
