BEGIN:VCALENDAR
VERSION:2.0
METHOD:PUBLISH
BEGIN:VEVENT
DTSTART:20181124T140000Z
DTEND:20181124T210000Z
LOCATION:Virginia Beach, VA 23455
TRANSP: OPAQUE
SEQUENCE:0
UID:
DTSTAMP:20260421T203041Z
SUMMARY:Black Saturday Estate Sale
DESCRIPTION:Black Saturday Estate Sale Estate Sales of Virginia 
UID:1776825041
STREET-ADDRESS:See website
POSTAL-CODE:23455
LOCALITY:Virginia Beach
REGION:ABBREV=VA
COUNTRY:ABBREV=US;ABBREV=USA:United States
URL;TYPE=Event Listing:https://estatesales.org/estate-sales/va/virginia-beach/23455/black-saturday-estate-sale-1598063
PRIORITY:1
CLASS:PUBLIC
SEQUENCE:0
STATUS:CONFIRMED
TRANSP:OPAQUE
END:VEVENT
END:VCALENDAR
