BEGIN:VCALENDAR
VERSION:2.0
METHOD:PUBLISH
BEGIN:VEVENT
DTSTART:20241123T140000Z
DTEND:20241124T180000Z
LOCATION:Canastota, NY 13032
TRANSP: OPAQUE
SEQUENCE:0
UID:
DTSTAMP:20260423T074745Z
SUMMARY:Canastota Estate Sale
DESCRIPTION:Canastota Estate Sale Clear Horizon Estate Services 
UID:1776952065
STREET-ADDRESS:See website
POSTAL-CODE:13032
LOCALITY:Canastota
REGION:ABBREV=NY
COUNTRY:ABBREV=US;ABBREV=USA:United States
URL;TYPE=Event Listing:https://estatesales.org/estate-sales/ny/canastota/13032/canastota-estate-sale-2350860
PRIORITY:1
CLASS:PUBLIC
SEQUENCE:0
STATUS:CONFIRMED
TRANSP:OPAQUE
END:VEVENT
END:VCALENDAR
