BEGIN:VCALENDAR
VERSION:2.0
METHOD:PUBLISH
BEGIN:VEVENT
DTSTART:20221123T160000Z
DTEND:20221123T230000Z
LOCATION:Gresham, OR 97030
TRANSP: OPAQUE
SEQUENCE:0
UID:
DTSTAMP:20260419T152348Z
SUMMARY:$1 clothing sale- 1 day only- Wednesday Nov 23
DESCRIPTION:$1 clothing sale- 1 day only- Wednesday Nov 23 Estate Liquidation Relocation Services 
UID:1776633828
STREET-ADDRESS:See website
POSTAL-CODE:97030
LOCALITY:Gresham
REGION:ABBREV=OR
COUNTRY:ABBREV=US;ABBREV=USA:United States
URL;TYPE=Event Listing:https://estatesales.org/estate-sales/or/gresham-/97030/1-clothing-sale-1-day-2124331
PRIORITY:1
CLASS:PUBLIC
SEQUENCE:0
STATUS:CONFIRMED
TRANSP:OPAQUE
END:VEVENT
END:VCALENDAR
