BEGIN:VCALENDAR
VERSION:2.0
METHOD:PUBLISH
BEGIN:VEVENT
DTSTART:20161123T200000Z
DTEND:20161124T000000Z
LOCATION:Denver, CO 80249
TRANSP: OPAQUE
SEQUENCE:0
UID:
DTSTAMP:20260421T151904Z
SUMMARY:pre thanksgiving sell
DESCRIPTION:pre thanksgiving sell AuroraEstateSales.com 
UID:1776806344
STREET-ADDRESS:See website
POSTAL-CODE:80249
LOCALITY:Denver
REGION:ABBREV=CO
COUNTRY:ABBREV=US;ABBREV=USA:United States
URL;TYPE=Event Listing:https://estatesales.org/estate-sales/co/denver/80249/pre-thanksgiving-sell-1037171
PRIORITY:1
CLASS:PUBLIC
SEQUENCE:0
STATUS:CONFIRMED
TRANSP:OPAQUE
END:VEVENT
END:VCALENDAR
