BEGIN:VCALENDAR
VERSION:2.0
METHOD:PUBLISH
BEGIN:VEVENT
DTSTART:20141123T160000Z
DTEND:20141124T000000Z
LOCATION:Valley Stream, NY 11581
TRANSP: OPAQUE
SEQUENCE:0
UID:
DTSTAMP:20260424T115755Z
SUMMARY:Huge Antique & Thrift Shop Flea Market Sale - 11am - 7pm
DESCRIPTION:Huge Antique & Thrift Shop Flea Market Sale - 11am - 7pm Antique &amp; Thrift Shop Super Store Flea Market 
UID:1777053475
STREET-ADDRESS:See website
POSTAL-CODE:11581
LOCALITY:Valley Stream
REGION:ABBREV=NY
COUNTRY:ABBREV=US;ABBREV=USA:United States
URL;TYPE=Event Listing:https://estatesales.org/estate-sales/ny/valley-stream/11581/huge-antique-thrift-shop-flea-481943
PRIORITY:1
CLASS:PUBLIC
SEQUENCE:0
STATUS:CONFIRMED
TRANSP:OPAQUE
END:VEVENT
END:VCALENDAR
