BEGIN:VCALENDAR
VERSION:2.0
METHOD:PUBLISH
BEGIN:VEVENT
DTSTART:20251122T160000Z
DTEND:20251123T210000Z
LOCATION:Chicago, IL 60647
TRANSP: OPAQUE
SEQUENCE:0
UID:
DTSTAMP:20260425T162651Z
SUMMARY:2025: An Art Odyssey - Phase I
DESCRIPTION:2025: An Art Odyssey - Phase I Meadow Lane Estate Sales 
UID:1777156011
STREET-ADDRESS:See website
POSTAL-CODE:60647
LOCALITY:Chicago
REGION:ABBREV=IL
COUNTRY:ABBREV=US;ABBREV=USA:United States
URL;TYPE=Event Listing:https://estatesales.org/estate-sales/il/chicago/60647/2025-an-art-odyssey-phase-2414335
PRIORITY:1
CLASS:PUBLIC
SEQUENCE:0
STATUS:CONFIRMED
TRANSP:OPAQUE
END:VEVENT
END:VCALENDAR
