BEGIN:VCALENDAR
VERSION:2.0
METHOD:PUBLISH
BEGIN:VEVENT
DTSTART:20251122T170000Z
DTEND:20251124T220000Z
LOCATION:Rancho Palos Verdes, CA 90275
TRANSP: OPAQUE
SEQUENCE:0
UID:
DTSTAMP:20260420T024504Z
SUMMARY:*75% Off Monday Come Get It!!!
DESCRIPTION:*75% Off Monday Come Get It!!! Diamond Heirlooms Estate Sales & Consulting  LLC 
UID:1776674704
STREET-ADDRESS:See website
POSTAL-CODE:90275
LOCALITY:Rancho Palos Verdes
REGION:ABBREV=CA
COUNTRY:ABBREV=US;ABBREV=USA:United States
URL;TYPE=Event Listing:https://estatesales.org/estate-sales/ca/rancho-palos-verdes/90275/75-off-monday-come-get-2410523
PRIORITY:1
CLASS:PUBLIC
SEQUENCE:0
STATUS:CONFIRMED
TRANSP:OPAQUE
END:VEVENT
END:VCALENDAR
