BEGIN:VCALENDAR
VERSION:2.0
METHOD:PUBLISH
BEGIN:VEVENT
DTSTART:20251122T140000Z
DTEND:20251123T220000Z
LOCATION:Garden City, NY 11530
TRANSP: OPAQUE
SEQUENCE:0
UID:
DTSTAMP:20260420T031534Z
SUMMARY:LUXURY ESTATE SALE – GARDEN CITY, NY Address: 9 St. James Street North, Garden City
DESCRIPTION:LUXURY ESTATE SALE – GARDEN CITY, NY Address: 9 St. James Street North, Garden City THRIFT HAPPENS 
UID:1776676534
STREET-ADDRESS:See website
POSTAL-CODE:11530
LOCALITY:Garden City
REGION:ABBREV=NY
COUNTRY:ABBREV=US;ABBREV=USA:United States
URL;TYPE=Event Listing:https://estatesales.org/estate-sales/ny/garden-city/11530/luxury-estate-sale-garden-city-2414578
PRIORITY:1
CLASS:PUBLIC
SEQUENCE:0
STATUS:CONFIRMED
TRANSP:OPAQUE
END:VEVENT
END:VCALENDAR
