BEGIN:VCALENDAR
VERSION:2.0
METHOD:PUBLISH
BEGIN:VEVENT
DTSTART:20251122T130000Z
DTEND:20251122T200000Z
LOCATION:Berlin, CT 06037
TRANSP: OPAQUE
SEQUENCE:0
UID:
DTSTAMP:20260425T152517Z
SUMMARY:Berlin One Day Downsizing Sale
DESCRIPTION:Berlin One Day Downsizing Sale Sean Mahoney Estate Sales LLC 
UID:1777152317
STREET-ADDRESS:See website
POSTAL-CODE:06037
LOCALITY:Berlin
REGION:ABBREV=CT
COUNTRY:ABBREV=US;ABBREV=USA:United States
URL;TYPE=Event Listing:https://estatesales.org/estate-sales/ct/berlin/06037/berlin-one-day-downsizing-sale-2414242
PRIORITY:1
CLASS:PUBLIC
SEQUENCE:0
STATUS:CONFIRMED
TRANSP:OPAQUE
END:VEVENT
END:VCALENDAR
