BEGIN:VCALENDAR
VERSION:2.0
METHOD:PUBLISH
BEGIN:VEVENT
DTSTART:20241122T160000Z
DTEND:20241123T210000Z
LOCATION:Chaska, MN 55318
TRANSP: OPAQUE
SEQUENCE:0
UID:
DTSTAMP:20260424T040540Z
SUMMARY:Chaska Downsizing Estate Sale
DESCRIPTION:Chaska Downsizing Estate Sale Moving On Asset Liquidation 
UID:1777025140
STREET-ADDRESS:See website
POSTAL-CODE:55318
LOCALITY:Chaska
REGION:ABBREV=MN
COUNTRY:ABBREV=US;ABBREV=USA:United States
URL;TYPE=Event Listing:https://estatesales.org/estate-sales/mn/chaska/55318/chaska-downsizing-estate-sale-2349625
PRIORITY:1
CLASS:PUBLIC
SEQUENCE:0
STATUS:CONFIRMED
TRANSP:OPAQUE
END:VEVENT
END:VCALENDAR
