BEGIN:VCALENDAR
VERSION:2.0
METHOD:PUBLISH
BEGIN:VEVENT
DTSTART:20241122T140000Z
DTEND:20241124T190000Z
LOCATION:Deland, FL 32724
TRANSP: OPAQUE
SEQUENCE:0
UID:
DTSTAMP:20260423T132546Z
SUMMARY:EMERALD is in Deland
DESCRIPTION:EMERALD is in Deland Estate Sales by Emerald 
UID:1776972346
STREET-ADDRESS:See website
POSTAL-CODE:32724
LOCALITY:Deland
REGION:ABBREV=FL
COUNTRY:ABBREV=US;ABBREV=USA:United States
URL;TYPE=Event Listing:https://estatesales.org/estate-sales/fl/deland/32724/emerald-is-in-deland-2351361
PRIORITY:1
CLASS:PUBLIC
SEQUENCE:0
STATUS:CONFIRMED
TRANSP:OPAQUE
END:VEVENT
END:VCALENDAR
