BEGIN:VCALENDAR
VERSION:2.0
METHOD:PUBLISH
BEGIN:VEVENT
DTSTART:20241122T170000Z
DTEND:20241123T230000Z
LOCATION:Genoa, NV 89411
TRANSP: OPAQUE
SEQUENCE:0
UID:
DTSTAMP:20260424T170902Z
SUMMARY:The Genoa Lakes Estate Sale
DESCRIPTION:The Genoa Lakes Estate Sale BEYOND Estate Sales, Reno-Sparks, NV 
UID:1777072142
STREET-ADDRESS:See website
POSTAL-CODE:89411
LOCALITY:Genoa
REGION:ABBREV=NV
COUNTRY:ABBREV=US;ABBREV=USA:United States
URL;TYPE=Event Listing:https://estatesales.org/estate-sales/nv/genoa/89411/the-genoa-lakes-estate-sale-2350671
PRIORITY:1
CLASS:PUBLIC
SEQUENCE:0
STATUS:CONFIRMED
TRANSP:OPAQUE
END:VEVENT
END:VCALENDAR
