BEGIN:VCALENDAR
VERSION:2.0
METHOD:PUBLISH
BEGIN:VEVENT
DTSTART:20191122T143000Z
DTEND:20191124T220000Z
LOCATION:Catskill, NY 12414
TRANSP: OPAQUE
SEQUENCE:0
UID:
DTSTAMP:20260423T150443Z
SUMMARY:Packed and stacked impeccable sale
DESCRIPTION:Packed and stacked impeccable sale Maleks Treasures 
UID:1776978283
STREET-ADDRESS:See website
POSTAL-CODE:12414
LOCALITY:Catskill
REGION:ABBREV=NY
COUNTRY:ABBREV=US;ABBREV=USA:United States
URL;TYPE=Event Listing:https://estatesales.org/estate-sales/ny/catskill/12414/packed-and-stacked-impeccable-sale-1742455
PRIORITY:1
CLASS:PUBLIC
SEQUENCE:0
STATUS:CONFIRMED
TRANSP:OPAQUE
END:VEVENT
END:VCALENDAR
