BEGIN:VCALENDAR
VERSION:2.0
METHOD:PUBLISH
BEGIN:VEVENT
DTSTART:20131122T190000Z
DTEND:20131124T190000Z
LOCATION:Sagaponack, NY 11962
TRANSP: OPAQUE
SEQUENCE:0
UID:
DTSTAMP:20260423T224643Z
SUMMARY:Partial Contents (But Much to See!) Traditional Prestine Home
DESCRIPTION:Partial Contents (But Much to See!) Traditional Prestine Home re.luxeHamptons 
UID:1777006003
STREET-ADDRESS:See website
POSTAL-CODE:11962
LOCALITY:Sagaponack
REGION:ABBREV=NY
COUNTRY:ABBREV=US;ABBREV=USA:United States
URL;TYPE=Event Listing:https://estatesales.org/estate-sales/ny/sagaponack/11962/partial-contents-but-much-to-342961
PRIORITY:1
CLASS:PUBLIC
SEQUENCE:0
STATUS:CONFIRMED
TRANSP:OPAQUE
END:VEVENT
END:VCALENDAR
