BEGIN:VCALENDAR
VERSION:2.0
METHOD:PUBLISH
BEGIN:VEVENT
DTSTART:20251121T150000Z
DTEND:20251123T210000Z
LOCATION:Sneads Ferry, NC 28460
TRANSP: OPAQUE
SEQUENCE:0
UID:
DTSTAMP:20260420T041846Z
SUMMARY:The Flipping Rooster *Estate Sale* Trains, Tools, Furniture, Riding Lawnmower
DESCRIPTION:The Flipping Rooster *Estate Sale* Trains, Tools, Furniture, Riding Lawnmower The Flipping Rooster 
UID:1776680326
STREET-ADDRESS:See website
POSTAL-CODE:28460
LOCALITY:Sneads Ferry
REGION:ABBREV=NC
COUNTRY:ABBREV=US;ABBREV=USA:United States
URL;TYPE=Event Listing:https://estatesales.org/estate-sales/nc/sneads-ferry/28460/the-flipping-rooster-estate-sale-2412335
PRIORITY:1
CLASS:PUBLIC
SEQUENCE:0
STATUS:CONFIRMED
TRANSP:OPAQUE
END:VEVENT
END:VCALENDAR
