BEGIN:VCALENDAR
VERSION:2.0
METHOD:PUBLISH
BEGIN:VEVENT
DTSTART:20251121T160000Z
DTEND:20251122T210000Z
LOCATION:Minnetonka, MN 55345
TRANSP: OPAQUE
SEQUENCE:0
UID:
DTSTAMP:20260424T040422Z
SUMMARY:Contractor's Castle Estate Sale
DESCRIPTION:Contractor's Castle Estate Sale Moving On Asset Liquidation 
UID:1777025062
STREET-ADDRESS:See website
POSTAL-CODE:55345
LOCALITY:Minnetonka
REGION:ABBREV=MN
COUNTRY:ABBREV=US;ABBREV=USA:United States
URL;TYPE=Event Listing:https://estatesales.org/estate-sales/mn/minnetonka/55345/contractors-castle-estate-sale-2412384
PRIORITY:1
CLASS:PUBLIC
SEQUENCE:0
STATUS:CONFIRMED
TRANSP:OPAQUE
END:VEVENT
END:VCALENDAR
