BEGIN:VCALENDAR
VERSION:2.0
METHOD:PUBLISH
BEGIN:VEVENT
DTSTART:20251121T160000Z
DTEND:20251123T210000Z
LOCATION:Phoenix, AZ 85014
TRANSP: OPAQUE
SEQUENCE:0
UID:
DTSTAMP:20260424T125534Z
SUMMARY:3 Day Estate Sale - Grasons of Gilbert & Phoenix
DESCRIPTION:3 Day Estate Sale - Grasons of Gilbert & Phoenix Grasons of Gilbert, AZ 
UID:1777056934
STREET-ADDRESS:See website
POSTAL-CODE:85014
LOCALITY:Phoenix
REGION:ABBREV=AZ
COUNTRY:ABBREV=US;ABBREV=USA:United States
URL;TYPE=Event Listing:https://estatesales.org/estate-sales/az/phoenix/85014/3-day-estate-sale-grasons-2414268
PRIORITY:1
CLASS:PUBLIC
SEQUENCE:0
STATUS:CONFIRMED
TRANSP:OPAQUE
END:VEVENT
END:VCALENDAR
