BEGIN:VCALENDAR
VERSION:2.0
METHOD:PUBLISH
BEGIN:VEVENT
DTSTART:20251121T160000Z
DTEND:20251122T200000Z
LOCATION:Purcell, OK 73080
TRANSP: OPAQUE
SEQUENCE:0
UID:
DTSTAMP:20260425T113047Z
SUMMARY:Country Purcell Sale ( yes. there are saddles! )
DESCRIPTION:Country Purcell Sale ( yes. there are saddles! ) Vincent Estate Sales 
UID:1777138247
STREET-ADDRESS:See website
POSTAL-CODE:73080
LOCALITY:Purcell
REGION:ABBREV=OK
COUNTRY:ABBREV=US;ABBREV=USA:United States
URL;TYPE=Event Listing:https://estatesales.org/estate-sales/ok/purcell/73080/country-purcell-sale-yes-there-2414277
PRIORITY:1
CLASS:PUBLIC
SEQUENCE:0
STATUS:CONFIRMED
TRANSP:OPAQUE
END:VEVENT
END:VCALENDAR
