BEGIN:VCALENDAR
VERSION:2.0
METHOD:PUBLISH
BEGIN:VEVENT
DTSTART:20251121T170000Z
DTEND:20251121T210000Z
LOCATION:Concord, CA 94519
TRANSP: OPAQUE
SEQUENCE:0
UID:
DTSTAMP:20260423T062912Z
SUMMARY:Concord Sale FRIDAY ONLY, Something For Everyone!
DESCRIPTION:Concord Sale FRIDAY ONLY, Something For Everyone! J and C Estate Sales 
UID:1776947352
STREET-ADDRESS:See website
POSTAL-CODE:94519
LOCALITY:Concord
REGION:ABBREV=CA
COUNTRY:ABBREV=US;ABBREV=USA:United States
URL;TYPE=Event Listing:https://estatesales.org/estate-sales/ca/concord/94519/concord-sale-friday-only-something-2414110
PRIORITY:1
CLASS:PUBLIC
SEQUENCE:0
STATUS:CONFIRMED
TRANSP:OPAQUE
END:VEVENT
END:VCALENDAR
