BEGIN:VCALENDAR
VERSION:2.0
METHOD:PUBLISH
BEGIN:VEVENT
DTSTART:20241121T140000Z
DTEND:20241123T200000Z
LOCATION:Ridgefield, NJ 07657
TRANSP: OPAQUE
SEQUENCE:0
UID:
DTSTAMP:20260423T131056Z
SUMMARY:Town & Country Estate Sales
DESCRIPTION:Town & Country Estate Sales Town & Country Estate & Moving Sales 
UID:1776971456
STREET-ADDRESS:See website
POSTAL-CODE:07657
LOCALITY:Ridgefield
REGION:ABBREV=NJ
COUNTRY:ABBREV=US;ABBREV=USA:United States
URL;TYPE=Event Listing:https://estatesales.org/estate-sales/nj/ridgefield/07657/town-country-estate-sales-2347650
PRIORITY:1
CLASS:PUBLIC
SEQUENCE:0
STATUS:CONFIRMED
TRANSP:OPAQUE
END:VEVENT
END:VCALENDAR
