BEGIN:VCALENDAR
VERSION:2.0
METHOD:PUBLISH
BEGIN:VEVENT
DTSTART:20201121T150000Z
DTEND:20201122T210000Z
LOCATION:Madison, WI 53718
TRANSP: OPAQUE
SEQUENCE:0
UID:
DTSTAMP:20260425T143303Z
SUMMARY:Incredible Antiques and Jewelry Sale- Final UPDATE as of 8:30am Friday
DESCRIPTION:Incredible Antiques and Jewelry Sale- Final UPDATE as of 8:30am Friday Tallulah & Stella's Estate Sale Service, LLC 
UID:1777149183
STREET-ADDRESS:See website
POSTAL-CODE:53718
LOCALITY:Madison
REGION:ABBREV=WI
COUNTRY:ABBREV=US;ABBREV=USA:United States
URL;TYPE=Event Listing:https://estatesales.org/estate-sales/wi/madison/53718/incredible-antiques-and-jewelry-sale-1848031
PRIORITY:1
CLASS:PUBLIC
SEQUENCE:0
STATUS:CONFIRMED
TRANSP:OPAQUE
END:VEVENT
END:VCALENDAR
