BEGIN:VCALENDAR
VERSION:2.0
METHOD:PUBLISH
BEGIN:VEVENT
DTSTART:20151121T150000Z
DTEND:20151121T220000Z
LOCATION:Rolla, MO 65401
TRANSP: OPAQUE
SEQUENCE:0
UID:
DTSTAMP:20260420T114000Z
SUMMARY:InKNOWvations Acadamy for children Liquidation Auction
DESCRIPTION:InKNOWvations Acadamy for children Liquidation Auction Sellers Auction Service 
UID:1776706800
STREET-ADDRESS:See website
POSTAL-CODE:65401
LOCALITY:Rolla
REGION:ABBREV=MO
COUNTRY:ABBREV=US;ABBREV=USA:United States
URL;TYPE=Event Listing:https://estatesales.org/estate-sales/mo/rolla/65401/inknowvations-acadamy-for-children-liquidation-705427
PRIORITY:1
CLASS:PUBLIC
SEQUENCE:0
STATUS:CONFIRMED
TRANSP:OPAQUE
END:VEVENT
END:VCALENDAR
