BEGIN:VCALENDAR
VERSION:2.0
METHOD:PUBLISH
BEGIN:VEVENT
DTSTART:20151121T130000Z
DTEND:20151122T190000Z
LOCATION:Florissant, MO 63031
TRANSP: OPAQUE
SEQUENCE:0
UID:
DTSTAMP:20260419T105904Z
SUMMARY:Bogard's Estate Sale - Florissant
DESCRIPTION:Bogard's Estate Sale - Florissant Bogard's Estate Sales 
UID:1776617944
STREET-ADDRESS:See website
POSTAL-CODE:63031
LOCALITY:Florissant
REGION:ABBREV=MO
COUNTRY:ABBREV=US;ABBREV=USA:United States
URL;TYPE=Event Listing:https://estatesales.org/estate-sales/mo/florissant/63031/bogards-estate-sale-florissant-714067
PRIORITY:1
CLASS:PUBLIC
SEQUENCE:0
STATUS:CONFIRMED
TRANSP:OPAQUE
END:VEVENT
END:VCALENDAR
