BEGIN:VCALENDAR
VERSION:2.0
METHOD:PUBLISH
BEGIN:VEVENT
DTSTART:20141121T140000Z
DTEND:20141122T190000Z
LOCATION:Crystal River, FL 34429
TRANSP: OPAQUE
SEQUENCE:0
UID:
DTSTAMP:20260421T140254Z
SUMMARY:CRYSTAL RIVER DOC HUDSON ESTATE SALE: ECCENTRICITIES, ANTIQUES, FINE ART, CARVINGS, FISHING, MORE!
DESCRIPTION:CRYSTAL RIVER DOC HUDSON ESTATE SALE: ECCENTRICITIES, ANTIQUES, FINE ART, CARVINGS, FISHING, MORE! OLIVER'S TWIST ESTATE MOVING SALES & SELECT CONSIGNMENTS 
UID:1776801774
STREET-ADDRESS:See website
POSTAL-CODE:34429
LOCALITY:Crystal River
REGION:ABBREV=FL
COUNTRY:ABBREV=US;ABBREV=USA:United States
URL;TYPE=Event Listing:https://estatesales.org/estate-sales/fl/crystal-river/34429/crystal-river-doc-hudson-estate-479851
PRIORITY:1
CLASS:PUBLIC
SEQUENCE:0
STATUS:CONFIRMED
TRANSP:OPAQUE
END:VEVENT
END:VCALENDAR
