BEGIN:VCALENDAR
VERSION:2.0
METHOD:PUBLISH
BEGIN:VEVENT
DTSTART:20251120T150000Z
DTEND:20251123T200000Z
LOCATION:Portsmouth, VA 23707
TRANSP: OPAQUE
SEQUENCE:0
UID:
DTSTAMP:20260421T033200Z
SUMMARY:4 DAY ESTATE SALE 11/20-21-22-23 FROM ENGLAND AND AMERICA! at 3614 SCOTT ST., PORTSMOUTH VA
DESCRIPTION:4 DAY ESTATE SALE 11/20-21-22-23 FROM ENGLAND AND AMERICA! at 3614 SCOTT ST., PORTSMOUTH VA Randy's Auction Gallery Ltd. 
UID:1776763920
STREET-ADDRESS:See website
POSTAL-CODE:23707
LOCALITY:Portsmouth
REGION:ABBREV=VA
COUNTRY:ABBREV=US;ABBREV=USA:United States
URL;TYPE=Event Listing:https://estatesales.org/estate-sales/va/portsmouth/23707/4-day-estate-sale-1120212223-2411292
PRIORITY:1
CLASS:PUBLIC
SEQUENCE:0
STATUS:CONFIRMED
TRANSP:OPAQUE
END:VEVENT
END:VCALENDAR
