BEGIN:VCALENDAR
VERSION:2.0
METHOD:PUBLISH
BEGIN:VEVENT
DTSTART:20251120T170000Z
DTEND:20251123T233000Z
LOCATION:Bakersfield, CA 93311
TRANSP: OPAQUE
SEQUENCE:0
UID:
DTSTAMP:20260422T062334Z
SUMMARY:Total 90’s collection
DESCRIPTION:Total 90’s collection All About You Liquidation 
UID:1776860614
STREET-ADDRESS:See website
POSTAL-CODE:93311
LOCALITY:Bakersfield
REGION:ABBREV=CA
COUNTRY:ABBREV=US;ABBREV=USA:United States
URL;TYPE=Event Listing:https://estatesales.org/estate-sales/ca/bakersfield-/93311/total-90s-collection-2414191
PRIORITY:1
CLASS:PUBLIC
SEQUENCE:0
STATUS:CONFIRMED
TRANSP:OPAQUE
END:VEVENT
END:VCALENDAR
