BEGIN:VCALENDAR
VERSION:2.0
METHOD:PUBLISH
BEGIN:VEVENT
DTSTART:20251120T170000Z
DTEND:20251122T220000Z
LOCATION:San Leandro, CA 94578
TRANSP: OPAQUE
SEQUENCE:0
UID:
DTSTAMP:20260419T054020Z
SUMMARY:Estate Sale in San Leandro Ca, by Horizons LLC.
DESCRIPTION:Estate Sale in San Leandro Ca, by Horizons LLC. Horizons Estate Sales LLC 
UID:1776598820
STREET-ADDRESS:See website
POSTAL-CODE:94578
LOCALITY:San Leandro
REGION:ABBREV=CA
COUNTRY:ABBREV=US;ABBREV=USA:United States
URL;TYPE=Event Listing:https://estatesales.org/estate-sales/ca/san-leandro/94578/estate-sale-in-san-leandro-2414111
PRIORITY:1
CLASS:PUBLIC
SEQUENCE:0
STATUS:CONFIRMED
TRANSP:OPAQUE
END:VEVENT
END:VCALENDAR
