BEGIN:VCALENDAR
VERSION:2.0
METHOD:PUBLISH
BEGIN:VEVENT
DTSTART:20211120T150000Z
DTEND:20211120T230000Z
LOCATION:Watertown, WI 53098
TRANSP: OPAQUE
SEQUENCE:0
UID:
DTSTAMP:20260424T133601Z
SUMMARY:Watertown Automobile and Motorcycle Live Auction and Estate Tag Sale November 20, 2021. 
DESCRIPTION:Watertown Automobile and Motorcycle Live Auction and Estate Tag Sale November 20, 2021.  Stenger Bischoff LLC 
UID:1777059361
STREET-ADDRESS:See website
POSTAL-CODE:53098
LOCALITY:Watertown
REGION:ABBREV=WI
COUNTRY:ABBREV=US;ABBREV=USA:United States
URL;TYPE=Event Listing:https://estatesales.org/estate-sales/wi/watertown/53098/watertown-automobile-and-motorcycle-live-1981299
PRIORITY:1
CLASS:PUBLIC
SEQUENCE:0
STATUS:CONFIRMED
TRANSP:OPAQUE
END:VEVENT
END:VCALENDAR
