BEGIN:VCALENDAR
VERSION:2.0
METHOD:PUBLISH
BEGIN:VEVENT
DTSTART:20151120T160000Z
DTEND:20151122T200000Z
LOCATION:Sussex, WI 53089
TRANSP: OPAQUE
SEQUENCE:0
UID:
DTSTAMP:20260420T030213Z
SUMMARY:Lots of Nice Stuff in Sussex!!!
DESCRIPTION:Lots of Nice Stuff in Sussex!!! All in the Family Estate Sales 
UID:1776675733
STREET-ADDRESS:See website
POSTAL-CODE:53089
LOCALITY:Sussex
REGION:ABBREV=WI
COUNTRY:ABBREV=US;ABBREV=USA:United States
URL;TYPE=Event Listing:https://estatesales.org/estate-sales/wi/sussex/53089/lots-of-nice-stuff-in-726413
PRIORITY:1
CLASS:PUBLIC
SEQUENCE:0
STATUS:CONFIRMED
TRANSP:OPAQUE
END:VEVENT
END:VCALENDAR
