BEGIN:VCALENDAR
VERSION:2.0
METHOD:PUBLISH
BEGIN:VEVENT
DTSTART:20131120T160000Z
DTEND:20131120T203000Z
LOCATION:Riverview, FL 33578
TRANSP: OPAQUE
SEQUENCE:0
UID:
DTSTAMP:20260423T131102Z
SUMMARY: CANCELLED TODAY BUT COME ON THURSDAY 21st AND SATUEDAY THE 23rd see you then thank you !!!!!  vintage,antique,retro items among other miscellaneous item
DESCRIPTION: CANCELLED TODAY BUT COME ON THURSDAY 21st AND SATUEDAY THE 23rd see you then thank you !!!!!  vintage,antique,retro items among other miscellaneous item Maria Kredi 
UID:1776971462
STREET-ADDRESS:See website
POSTAL-CODE:33578
LOCALITY:Riverview
REGION:ABBREV=FL
COUNTRY:ABBREV=US;ABBREV=USA:United States
URL;TYPE=Event Listing:https://estatesales.org/estate-sales/fl/riverview/33578/cancelled-today-but-come-on-342404
PRIORITY:1
CLASS:PUBLIC
SEQUENCE:0
STATUS:CONFIRMED
TRANSP:OPAQUE
END:VEVENT
END:VCALENDAR
