BEGIN:VCALENDAR
VERSION:2.0
METHOD:PUBLISH
BEGIN:VEVENT
DTSTART:20231119T160000Z
DTEND:20231119T210000Z
LOCATION:Bakersfield, CA 93307
TRANSP: OPAQUE
SEQUENCE:0
UID:
DTSTAMP:20260422T120355Z
SUMMARY:💥Warehouse Bin and Pallet Liquidation- Bakersfield💥
DESCRIPTION:💥Warehouse Bin and Pallet Liquidation- Bakersfield💥 Complete Estate Management 
UID:1776881035
STREET-ADDRESS:See website
POSTAL-CODE:93307
LOCALITY:Bakersfield
REGION:ABBREV=CA
COUNTRY:ABBREV=US;ABBREV=USA:United States
URL;TYPE=Event Listing:https://estatesales.org/estate-sales/ca/bakersfield-/93307/warehouse-bin-and-pallet-liquidation-2257285
PRIORITY:1
CLASS:PUBLIC
SEQUENCE:0
STATUS:CONFIRMED
TRANSP:OPAQUE
END:VEVENT
END:VCALENDAR
