BEGIN:VCALENDAR
VERSION:2.0
METHOD:PUBLISH
BEGIN:VEVENT
DTSTART:20221119T140000Z
DTEND:20221119T200000Z
LOCATION:Newton, MA 02468
TRANSP: OPAQUE
SEQUENCE:0
UID:
DTSTAMP:20260419T092019Z
SUMMARY: Waban One Day Estate Sale Saturday, November 19 by Estate Sale Specialists
DESCRIPTION: Waban One Day Estate Sale Saturday, November 19 by Estate Sale Specialists Estate Sale Specialists, LLC 
UID:1776612019
STREET-ADDRESS:See website
POSTAL-CODE:02468
LOCALITY:Newton
REGION:ABBREV=MA
COUNTRY:ABBREV=US;ABBREV=USA:United States
URL;TYPE=Event Listing:https://estatesales.org/estate-sales/ma/newton/02468/waban-one-day-estate-sale-2112447
PRIORITY:1
CLASS:PUBLIC
SEQUENCE:0
STATUS:CONFIRMED
TRANSP:OPAQUE
END:VEVENT
END:VCALENDAR
