BEGIN:VCALENDAR
VERSION:2.0
METHOD:PUBLISH
BEGIN:VEVENT
DTSTART:20161119T150000Z
DTEND:20161120T045900Z
LOCATION:Saint Louis, MO 63146
TRANSP: OPAQUE
SEQUENCE:0
UID:
DTSTAMP:20260419T201427Z
SUMMARY:Creve Coeur Estate Auction
DESCRIPTION:Creve Coeur Estate Auction Father Time Auctions and Real Estate 
UID:1776651267
STREET-ADDRESS:See website
POSTAL-CODE:63146
LOCALITY:Saint Louis
REGION:ABBREV=MO
COUNTRY:ABBREV=US;ABBREV=USA:United States
URL;TYPE=Event Listing:https://estatesales.org/estate-sales/mo/saint-louis/63146/creve-coeur-estate-auction-1028681
PRIORITY:1
CLASS:PUBLIC
SEQUENCE:0
STATUS:CONFIRMED
TRANSP:OPAQUE
END:VEVENT
END:VCALENDAR
