BEGIN:VCALENDAR
VERSION:2.0
METHOD:PUBLISH
BEGIN:VEVENT
DTSTART:20161119T130000Z
DTEND:20161119T200000Z
LOCATION:Tiverton, RI 02878
TRANSP: OPAQUE
SEQUENCE:0
UID:
DTSTAMP:20260420T011855Z
SUMMARY:HUGE LIQUIDATION SALE
DESCRIPTION:HUGE LIQUIDATION SALE Lattuca Estate Services 
UID:1776669535
STREET-ADDRESS:See website
POSTAL-CODE:02878
LOCALITY:Tiverton
REGION:ABBREV=RI
COUNTRY:ABBREV=US;ABBREV=USA:United States
URL;TYPE=Event Listing:https://estatesales.org/estate-sales/ri/tiverton/02878/huge-liquidation-sale-1034095
PRIORITY:1
CLASS:PUBLIC
SEQUENCE:0
STATUS:CONFIRMED
TRANSP:OPAQUE
END:VEVENT
END:VCALENDAR
