BEGIN:VCALENDAR
VERSION:2.0
METHOD:PUBLISH
BEGIN:VEVENT
DTSTART:20131119T160000Z
DTEND:20131119T210000Z
LOCATION:Riverview, FL 33578
TRANSP: OPAQUE
SEQUENCE:0
UID:
DTSTAMP:20260423T131100Z
SUMMARY:COME SEE US THE 21ST AND THE 23RD.....OF NOV THE SALE CONTINUES THESE TWO DAYS  vintage,retro  collectors itemsitems CASH ONLY *    OUTDOOR SALES  
DESCRIPTION:COME SEE US THE 21ST AND THE 23RD.....OF NOV THE SALE CONTINUES THESE TWO DAYS  vintage,retro  collectors itemsitems CASH ONLY *    OUTDOOR SALES   Maria Kredi 
UID:1776971460
STREET-ADDRESS:See website
POSTAL-CODE:33578
LOCALITY:Riverview
REGION:ABBREV=FL
COUNTRY:ABBREV=US;ABBREV=USA:United States
URL;TYPE=Event Listing:https://estatesales.org/estate-sales/fl/riverview/33578/come-see-us-the-21st-342403
PRIORITY:1
CLASS:PUBLIC
SEQUENCE:0
STATUS:CONFIRMED
TRANSP:OPAQUE
END:VEVENT
END:VCALENDAR
