BEGIN:VCALENDAR
VERSION:2.0
METHOD:PUBLISH
BEGIN:VEVENT
DTSTART:20231118T140000Z
DTEND:20231119T180000Z
LOCATION:East Syracuse, NY 13057
TRANSP: OPAQUE
SEQUENCE:0
UID:
DTSTAMP:20260423T074746Z
SUMMARY:East Syracuse Estate Sale
DESCRIPTION:East Syracuse Estate Sale Clear Horizon Estate Services 
UID:1776952066
STREET-ADDRESS:See website
POSTAL-CODE:13057
LOCALITY:East Syracuse
REGION:ABBREV=NY
COUNTRY:ABBREV=US;ABBREV=USA:United States
URL;TYPE=Event Listing:https://estatesales.org/estate-sales/ny/east-syracuse/13057/east-syracuse-estate-sale-2257325
PRIORITY:1
CLASS:PUBLIC
SEQUENCE:0
STATUS:CONFIRMED
TRANSP:OPAQUE
END:VEVENT
END:VCALENDAR
