BEGIN:VCALENDAR
VERSION:2.0
METHOD:PUBLISH
BEGIN:VEVENT
DTSTART:20231118T160000Z
DTEND:20231120T000000Z
LOCATION:Bakersfield, CA 93312
TRANSP: OPAQUE
SEQUENCE:0
UID:
DTSTAMP:20260422T120354Z
SUMMARY:50 % off Sunday Estate Sale (in Warehouse) Rosedale
DESCRIPTION:50 % off Sunday Estate Sale (in Warehouse) Rosedale Complete Estate Management 
UID:1776881034
STREET-ADDRESS:See website
POSTAL-CODE:93312
LOCALITY:Bakersfield
REGION:ABBREV=CA
COUNTRY:ABBREV=US;ABBREV=USA:United States
URL;TYPE=Event Listing:https://estatesales.org/estate-sales/ca/bakersfield/93312/50-off-sunday-estate-sale-2257323
PRIORITY:1
CLASS:PUBLIC
SEQUENCE:0
STATUS:CONFIRMED
TRANSP:OPAQUE
END:VEVENT
END:VCALENDAR
