BEGIN:VCALENDAR
VERSION:2.0
METHOD:PUBLISH
BEGIN:VEVENT
DTSTART:20221118T160000Z
DTEND:20221120T223000Z
LOCATION:Oklahoma City, OK 73112
TRANSP: OPAQUE
SEQUENCE:0
UID:
DTSTAMP:20260422T113053Z
SUMMARY:PJ's Four Star Estate Sales Presents 2428 NW 49th St.. Nov. 18, 19, from 9-3 & Sun from 1-3:30
DESCRIPTION:PJ's Four Star Estate Sales Presents 2428 NW 49th St.. Nov. 18, 19, from 9-3 & Sun from 1-3:30 PJ'S Four Star Estate Sales llc 
UID:1776879053
STREET-ADDRESS:See website
POSTAL-CODE:73112
LOCALITY:Oklahoma City
REGION:ABBREV=OK
COUNTRY:ABBREV=US;ABBREV=USA:United States
URL;TYPE=Event Listing:https://estatesales.org/estate-sales/ok/oklahoma-city/73112/pjs-four-star-estate-sales-2122145
PRIORITY:1
CLASS:PUBLIC
SEQUENCE:0
STATUS:CONFIRMED
TRANSP:OPAQUE
END:VEVENT
END:VCALENDAR
