BEGIN:VCALENDAR
VERSION:2.0
METHOD:PUBLISH
BEGIN:VEVENT
DTSTART:20221118T140000Z
DTEND:20221119T190000Z
LOCATION:East Greenwich, RI 02818
TRANSP: OPAQUE
SEQUENCE:0
UID:
DTSTAMP:20260420T012751Z
SUMMARY:East Greenwich Estate Sale
DESCRIPTION:East Greenwich Estate Sale Hidden Treasures Estate Sales & Cleanouts 
UID:1776670071
STREET-ADDRESS:See website
POSTAL-CODE:02818
LOCALITY:East Greenwich
REGION:ABBREV=RI
COUNTRY:ABBREV=US;ABBREV=USA:United States
URL;TYPE=Event Listing:https://estatesales.org/estate-sales/ri/east-greenwich/02818/east-greenwich-estate-sale-2119495
PRIORITY:1
CLASS:PUBLIC
SEQUENCE:0
STATUS:CONFIRMED
TRANSP:OPAQUE
END:VEVENT
END:VCALENDAR
