BEGIN:VCALENDAR
VERSION:2.0
METHOD:PUBLISH
BEGIN:VEVENT
DTSTART:20221118T150000Z
DTEND:20221119T230000Z
LOCATION:Colorado Springs, CO 80917
TRANSP: OPAQUE
SEQUENCE:0
UID:
DTSTAMP:20260420T204658Z
SUMMARY:Massive estate sale. Decades of collecting 
DESCRIPTION:Massive estate sale. Decades of collecting  Total Care Estate and Property Services 
UID:1776739618
STREET-ADDRESS:See website
POSTAL-CODE:80917
LOCALITY:Colorado Springs
REGION:ABBREV=CO
COUNTRY:ABBREV=US;ABBREV=USA:United States
URL;TYPE=Event Listing:https://estatesales.org/estate-sales/co/colorado-springs-/80917/massive-estate-sale-decades-of-2121341
PRIORITY:1
CLASS:PUBLIC
SEQUENCE:0
STATUS:CONFIRMED
TRANSP:OPAQUE
END:VEVENT
END:VCALENDAR
