BEGIN:VCALENDAR
VERSION:2.0
METHOD:PUBLISH
BEGIN:VEVENT
DTSTART:20221118T190000Z
DTEND:20221120T190000Z
LOCATION:By appointment only.
TRANSP: OPAQUE
SEQUENCE:0
UID:
DTSTAMP:20260419T082836Z
SUMMARY:Estate Sale by Appointment Only
DESCRIPTION:Estate Sale by Appointment Only Williams & Barron Estate Services LLC 
UID:1776608916
STREET-ADDRESS:See website
POSTAL-CODE:15668
LOCALITY:Murrysville
REGION:ABBREV=PA
COUNTRY:ABBREV=US;ABBREV=USA:United States
URL;TYPE=Event Listing:https://estatesales.org/estate-sales/pa/murrysville/15668/estate-sale-by-appointment-only-2121999
PRIORITY:1
CLASS:PUBLIC
SEQUENCE:0
STATUS:CONFIRMED
TRANSP:OPAQUE
END:VEVENT
END:VCALENDAR
