BEGIN:VCALENDAR
VERSION:2.0
METHOD:PUBLISH
BEGIN:VEVENT
DTSTART:20211118T170000Z
DTEND:20211120T200000Z
LOCATION:Joplin, MO 64804
TRANSP: OPAQUE
SEQUENCE:0
UID:
DTSTAMP:20260419T122550Z
SUMMARY:AWESOME ANTIQUE-EPHEMERA-BASEBALL-AVIATION- MILITARY-JOPLIN HISTORIAN 
DESCRIPTION:AWESOME ANTIQUE-EPHEMERA-BASEBALL-AVIATION- MILITARY-JOPLIN HISTORIAN  New Beginnings Estate Sales of SW MO 
UID:1776623150
STREET-ADDRESS:See website
POSTAL-CODE:64804
LOCALITY:Joplin
REGION:ABBREV=MO
COUNTRY:ABBREV=US;ABBREV=USA:United States
URL;TYPE=Event Listing:https://estatesales.org/estate-sales/mo/joplin/64804/awesome-antiqueephemerabaseballaviation-militaryjoplin-historian-1984201
PRIORITY:1
CLASS:PUBLIC
SEQUENCE:0
STATUS:CONFIRMED
TRANSP:OPAQUE
END:VEVENT
END:VCALENDAR
