BEGIN:VCALENDAR
VERSION:2.0
METHOD:PUBLISH
BEGIN:VEVENT
DTSTART:20161118T143000Z
DTEND:20161119T190000Z
LOCATION:Union, NJ 07083
TRANSP: OPAQUE
SEQUENCE:0
UID:
DTSTAMP:20260425T162114Z
SUMMARY:EASY PICKING IS IN UNION, NJ FOR A 2 DAY SALE. VINTAGE DOLLS, TOYS, HOLIDAY ITEMS
DESCRIPTION:EASY PICKING IS IN UNION, NJ FOR A 2 DAY SALE. VINTAGE DOLLS, TOYS, HOLIDAY ITEMS Easy Picking Estate Sales 
UID:1777155674
STREET-ADDRESS:See website
POSTAL-CODE:07083
LOCALITY:Union
REGION:ABBREV=NJ
COUNTRY:ABBREV=US;ABBREV=USA:United States
URL;TYPE=Event Listing:https://estatesales.org/estate-sales/nj/union/07083/easy-picking-is-in-union-1014571
PRIORITY:1
CLASS:PUBLIC
SEQUENCE:0
STATUS:CONFIRMED
TRANSP:OPAQUE
END:VEVENT
END:VCALENDAR
