BEGIN:VCALENDAR
VERSION:2.0
METHOD:PUBLISH
BEGIN:VEVENT
DTSTART:20161118T160000Z
DTEND:20161120T220000Z
LOCATION:Austin, TX 78731
TRANSP: OPAQUE
SEQUENCE:0
UID:
DTSTAMP:20260424T121810Z
SUMMARY:Part Adventure Part History All Antique in Northwest Hills     SUNDAY IS DISCOUNT DAY
DESCRIPTION:Part Adventure Part History All Antique in Northwest Hills     SUNDAY IS DISCOUNT DAY Past 2 Present Estate Sale Service 
UID:1777054690
STREET-ADDRESS:See website
POSTAL-CODE:78731
LOCALITY:Austin
REGION:ABBREV=TX
COUNTRY:ABBREV=US;ABBREV=USA:United States
URL;TYPE=Event Listing:https://estatesales.org/estate-sales/tx/austin/78731/part-adventure-part-history-all-1007707
PRIORITY:1
CLASS:PUBLIC
SEQUENCE:0
STATUS:CONFIRMED
TRANSP:OPAQUE
END:VEVENT
END:VCALENDAR
